BEGIN:VCALENDAR
VERSION:2.0
CALSCALE:GREGORIAN
PRODID:adamgibbons/ics
METHOD:PUBLISH
X-PUBLISHED-TTL:PT1H
BEGIN:VEVENT
UID:13264@do.basspistol.org
SUMMARY:L'Habitatge\, una altra cara de la desigualitat de gènere
DTSTAMP:20260425T213115Z
DTSTART:20260509T090000Z
DTEND:20260509T113000Z
URL:https://do.basspistol.org/event/lhabitatge-una-altra-cara-de-la-desigua
	litat-de-genere
GEO:41.4108672;2.1885084
LOCATION:Ateneu del Clot - 16\, Carrer de la Muntanya\, el Clot\, Sant Mart
	í\, Barcelona\, Barcelonès\, Barcelona\, Catalunya\, 08026\, España
STATUS:CONFIRMED
CATEGORIES:Clot,SindicatHabitatge,el Clot,habitatge,sindicat d'habitatge de
	l clot,xerrada
END:VEVENT
END:VCALENDAR
